BEGIN:VCALENDAR
VERSION:2.0
PRODID:-//Advanced Intellect//aspNetEmail Calendar Writer(v4.0.0.57)//EN
METHOD:POST
BEGIN:VTIMEZONE
LAST-MODIFIED:20260423T111304Z
TZID:Eastern Standard Time
BEGIN:STANDARD
DTSTART:16010101T030000
TZOFFSETFROM:-0400
TZOFFSETTO:-0500
TZNAME:EST
RRULE:FREQ=YEARLY;BYMONTH=11;BYDAY=1SU
END:STANDARD
BEGIN:DAYLIGHT
DTSTART:16010101T020000
TZOFFSETFROM:-0500
TZOFFSETTO:-0400
TZNAME:EDT
RRULE:FREQ=YEARLY;BYMONTH=3;BYDAY=2SU
END:DAYLIGHT
END:VTIMEZONE
BEGIN:VEVENT
DTSTART;TZID="Eastern Standard Time":20250719T103000
DTEND;TZID="Eastern Standard Time":20250719T123000
UID:f0a32c68-66f2-4476-b783-40bd7d6c8093
CREATED:20260423T151304Z
DTSTAMP:20260423T151304Z
LAST-MODIFIED:20260423T151304Z
DESCRIPTION:Vineyard Community Center\n\nTHIS EVENT HAS BEEN CANCELLED!\n
 \nPlease email Kendall Wright with any questions: kendall.wright@vineyar
 dcolumbus.org \n 
SUMMARY:Reentry Simulation
SEQUENCE:0
STATUS:NEEDS ACTION
END:VEVENT
END:VCALENDAR