BEGIN:VCALENDAR
VERSION:2.0
PRODID:-//Advanced Intellect//aspNetEmail Calendar Writer(v4.0.0.57)//EN
METHOD:POST
BEGIN:VTIMEZONE
LAST-MODIFIED:20260420T221727Z
TZID:Eastern Standard Time
BEGIN:STANDARD
DTSTART:16010101T030000
TZOFFSETFROM:-0400
TZOFFSETTO:-0500
TZNAME:EST
RRULE:FREQ=YEARLY;BYMONTH=11;BYDAY=1SU
END:STANDARD
BEGIN:DAYLIGHT
DTSTART:16010101T020000
TZOFFSETFROM:-0500
TZOFFSETTO:-0400
TZNAME:EDT
RRULE:FREQ=YEARLY;BYMONTH=3;BYDAY=2SU
END:DAYLIGHT
END:VTIMEZONE
BEGIN:VEVENT
DTSTART;TZID="Eastern Standard Time":20260425T093000
DTEND;TZID="Eastern Standard Time":20260425T104500
UID:b3e1fc1d-3e3c-4352-89fe-87fa4eb3c082
CREATED:20260421T021727Z
DTSTAMP:20260421T021727Z
LAST-MODIFIED:20260421T021727Z
DESCRIPTION:Vineyard Community Center\n\n*This class is FREE to
  attend. Registration is required.\n\nAre you dreaming of owning
  your own home but feeling overwhelmed by the complexities of the
  home buying process? Join us for a comprehensive workshop designed
  to demystify every step along the way.\nIn this interactive session\,
  we'll cover essential topics such as understanding credit\, navigating
  loan options\, exploring various assistance programs\, unraveling
  timelines\, and decoding the often-confusing vocabulary of the
  home buying journey.\nWhether you're a first-time homebuyer or
  looking to make your next move in the real estate market\, this
  workshop is tailored to empower you with the knowledge and confidence
  needed to take the next step towards homeownership. 
SUMMARY:How To Become a Homeowner/Investor - April
SEQUENCE:0
STATUS:NEEDS ACTION
END:VEVENT
END:VCALENDAR