BEGIN:VCALENDAR
VERSION:2.0
PRODID:-//Advanced Intellect//aspNetEmail Calendar Writer(v4.0.0.57)//EN
METHOD:POST
BEGIN:VTIMEZONE
LAST-MODIFIED:20260423T171055Z
TZID:Eastern Standard Time
BEGIN:STANDARD
DTSTART:16010101T030000
TZOFFSETFROM:-0400
TZOFFSETTO:-0500
TZNAME:EST
RRULE:FREQ=YEARLY;BYMONTH=11;BYDAY=1SU
END:STANDARD
BEGIN:DAYLIGHT
DTSTART:16010101T020000
TZOFFSETFROM:-0500
TZOFFSETTO:-0400
TZNAME:EDT
RRULE:FREQ=YEARLY;BYMONTH=3;BYDAY=2SU
END:DAYLIGHT
END:VTIMEZONE
BEGIN:VEVENT
DTSTART;TZID="Eastern Standard Time":20220129T110000
DTEND;TZID="Eastern Standard Time":20220312T114000
UID:42015cbb-0e6d-4565-acb9-bb0385a00ff8
CREATED:20260423T211055Z
DTSTAMP:20260423T211055Z
LAST-MODIFIED:20260423T211055Z
DESCRIPTION:Vineyard Community Center\n\nFor the beginning gymnast--A
  class to build confidence\, strength\, flexibility\, and body awareness.
  Activities include bars\, beam\, floor\, and vault skills. Comfortable
  clothing (leotard preferred)\, hair pulled back\, and bare feet.
SUMMARY:Gymnastics 1 (Saturday Sessions\, 7-12 year olds)
SEQUENCE:0
STATUS:NEEDS ACTION
END:VEVENT
END:VCALENDAR