BEGIN:VCALENDAR
VERSION:2.0
PRODID:-//Advanced Intellect//aspNetEmail Calendar Writer(v4.0.0.57)//EN
METHOD:POST
BEGIN:VTIMEZONE
LAST-MODIFIED:20260423T050348Z
TZID:Eastern Standard Time
BEGIN:STANDARD
DTSTART:16010101T030000
TZOFFSETFROM:-0400
TZOFFSETTO:-0500
TZNAME:EST
RRULE:FREQ=YEARLY;BYMONTH=11;BYDAY=1SU
END:STANDARD
BEGIN:DAYLIGHT
DTSTART:16010101T020000
TZOFFSETFROM:-0500
TZOFFSETTO:-0400
TZNAME:EDT
RRULE:FREQ=YEARLY;BYMONTH=3;BYDAY=2SU
END:DAYLIGHT
END:VTIMEZONE
BEGIN:VEVENT
DTSTART;TZID="Eastern Standard Time":20200229T124500
DTEND;TZID="Eastern Standard Time":20200321T132500
UID:7b5b6cf1-d9b7-45b9-99f4-01a1deab19dc
CREATED:20260423T090348Z
DTSTAMP:20260423T090348Z
LAST-MODIFIED:20260423T090348Z
DESCRIPTION:Vineyard Community Center\n\nSession 1: Saturdays\,
  February 29 – March 21\, 2020     12:45pm – 1:25pm\nInstructor:
  Telisha\nKids  Age: 7 - 10 Years Old\nThis class is for children\,
  ages 7 – 10 years old. Gymnasts will learn stretches\, techniques\,
  and skills including rolls\, cartwheels\, and handstands. Comfortable
  clothing\, bare feet\, and hair pulled back are required. 
LOCATION:Campus: Westerville (6000 Cooper Rd Westerville\, OH 43081-8984)
  Building: Community Center Location: Dance Room 
SUMMARY:Gymnastics 7-10 Year Olds: Saturdays\, Session 2 (4 Weeks)
SEQUENCE:0
STATUS:NEEDS ACTION
END:VEVENT
END:VCALENDAR